Workbook

Sheet FRONTESPIZIO
A1: PLANNING ANNUALE DELLE ATTIVITA' - A.S. 2024/2025
A4: TOTALE GIORNI SCOLASTICI | G4: ='SETTEMBRE 2026'!F33+'OTTOBRE 2026'!F34+'NOVEMBRE 2026'!F33+'DICEMBRE 2026'!F34+'GENNAIO 2027'!F34+'FEBBRAIO 2027'!F31+'MARZO 2027'!F34+'APRILE 2027'!F34+'MAGGIO 2027'!F34+'GIUGNO 2027'!F33 -> 204
A5: CONTATORE ORE 40 | G5: ='OTTOBRE 2026'!E34+'NOVEMBRE 2026'!E33+'DICEMBRE 2026'!E34+'GENNAIO 2027'!E34+'FEBBRAIO 2027'!E31+'MARZO 2027'!E34+'APRILE 2027'!E34+'MAGGIO 2027'!E34+'SETTEMBRE 2026'!E33 -> 32.5
A7: Il planning, una volta approvato, avrà dei cambiamenti solamente per forza maggiore.
A8: I docenti tutti sono tenuti a rispettare quanto deliberato dal Collegio dei Docenti.
A10: I Collegi dei docenti sono programmati, salvo adeguamento a circostanze che protranno sopraggiungere, per tutto l'anno scolastico. Si svolgeranno generalmente in modalità on line attraverso la piattaforma web CISCOWEBEX.
A11: I Consigli di classe si svolgeranno generalmente in modalità on line attraverso la piattaforma utilizzata per tutto l'anno scolastico. I consigli quadrimestrali si svolgeranno, se l'andamento epidemiologico lo consentirà, in presenza.
A13: I DOCENTI CHE SONO IMPIEGATI SU DUE O PIU' SCUOLE AVRANNO DA SEGUIRE
A14: LA SEGUENTE FORMULA PER LA PRESTAZIONE DELLE ATTIVITA' DI CONSIGLIO E DI COLLEGIO
C16: TOTALE ORE CATTEDRA | E16: TOTALE ORE PER CONSIGLI, COLLEGi, INCONTRI SCUOLA FAMIGLIA, DIPARTIMENTI
C17: 18 | E17: =C17/18*40 -> 40
C18: 15 | E18: =C18/18*40 -> 33.333333
C19: 12 | E19: =C19/18*40 -> 26.666667
C20: 9 | E20: =C20/18*40 -> 20
C21: 6 | E21: =C21/18*40 -> 13.333333
C22: 4 | E22: =C22/18*40 -> 8.8888889
C23: 2 | E23: =C23/18*40 -> 4.4444444
C24: 14 | E24: =40/18*14 -> 31.111111
B26: Festività previste da calendario scolastico nazionale e regionale
B27: Incontro scuola famiglia
B28: Giornate della condivisione | E28: Il Dirigente Scolastico Dott. Maria Ester Riccitelli Firma predisposta a mezzo stampa secondo l’art. 3 del D.lgs 39/1993 e l’articolo 3bis, comma 4bis del Codice dell’amm. digitale
B29: COLLEGIO DOCENTI
B30: Consigli di classe
B31: Riunioni di dipartimento
B32: Festività deliberate ex DPR n. 275/1999
A35: In caso di assenza di stato del dirigente scolastico, la conduzione dei consigli sarà demandata ai rispettivi coordinatori di classe e la verbalizzazione sarà consegnata entro sette giorni in presidenza o data ai collaboratori del dirigente. Attenzione sono atti pubblici.

Sheet SETTEMBRE 2026
A1: SETTEMBRE
A2: DATA | B2: ATTIVITA' | C2: SEDE DI FAICCHIO | D2: SEDE DI CASTELVENERE | E2: TOTALE ORE PER CONSIGLI E COLLEGI | F2: GIORNI DI LEZIONE
A3: 46266 | B3: Presa di servizio dei docenti di nuova immissione in servizio - 1^ COLLEGIO ORDINARIO | E3: 2
A4: 46267 | B4: Tavolo di lavoro DS-Collaboratori del DS
A5: 46268 | B5: Dipartimenti disciplinari - riunione ordinaria | E5: 2
A6: 46269 | B6: Riunione Personale ATA con RSU e responsabili di plesso
A7: 46270
A8: 46271
A9: 46272
A10: 46273 | B10: Tavolo di lavoro DS con OOSS, RSU e RSA
A11: 46274
A12: 46275 | B12: 2^ COLLEGIO ORDINARIO | E12: 2
A13: 46276 | B13: Riunione commissioni di lavoro | E13: 2
A14: 46277
A15: 46278
A16: 46279 | B16: Riunione del CdI e Giunta esecutiva
A17: 46280 | B17: INIZIO ANNO SCOLASTICO - ACCOGLIENZA DEGLI ALUNNI DELLE PRIME CLASSI - VISITA AI LABORATORI - SPIEGAZIONE DELLA MISSION DEL NOSTRO ISTITUTO | F17: 1
A18: 46281 | B18: Prove d'ingresso, acquisizione e consolidamento livelli in ingresso | F18: 1
A19: 46282 | B19: Prove d'ingresso, acquisizione e consolidamento livelli in ingresso | F19: 1
A20: 46283 | B20: Prove d'ingresso, acquisizione e consolidamento livelli in ingresso | F20: 1
A21: 46284 | B21: Prove d'ingresso, acquisizione e consolidamento livelli in ingresso | F21: 1
A22: 46285
A23: 46286 | F23: 1
A24: 46287 | F24: 1
A25: 46288 | F25: 1
A26: 46289 | F26: 1
A27: 46290 | F27: 1
A28: 46291 | F28: 1
A29: 46292
A30: 46293 | F30: 1
A31: 46294 | F31: 1
A32: 46295 | F32: 1
A33: TOTALE | B33: =F33 -> 14 | E33: =SUM(E2:E32) -> 8 | F33: =SUM(F2:F32) -> 14

Sheet OTTOBRE 2026
A1: OTTOBRE | B1: OTTOBRE
A2: DATA | B2: ATTIVITA' | C2: SEDE DI FAICCHIO | D2: SEDE DI CASTELVENERE | E2: TOTALE ORE PER CONSIGLI E COLLEGI | F2: GIORNI DI LEZIONE
A3: 46296 | F3: 1
A4: 46297 | F4: 1
A5: 46298 | B5: Giornata internazionale vittime dell'immigrazione | F5: 1
A6: 46299
A7: 46300 | F7: 1
A8: 46301 | F8: 1
A9: 46302 | F9: 1
A10: 46303 | F10: 1
A11: 46304 | F11: 1
A12: 46305 | F12: 1
A13: 46306
A14: 46307 | F14: 1
A15: 46308 | F15: 1
A16: 46309 | F16: 1
A17: 46310 | F17: 1
A18: 46311 | F18: 1
A19: 46312 | F19: 1
A20: 46313
A21: 46314 | B21: Consigli di classe | C21: IPSEOA diurno | E21: 3.5 | F21: 1
A22: 46315 | B22: Consigli di classe | C22: Odontotecnico - OSS | F22: 1
A23: 46316 | B23: Consigli di classe | C23: Turistico | F23: 1
A24: 46317 | F24: 1
A25: 46318 | B25: Consigli di classe | D25: IPSEOA diurno e serale | F25: 1
A26: 46319 | F26: 1
A27: 46320
A28: 46321 | B28: Termine per la presentazione del piano di lavoro individuale e proposte progettuali | F28: 1
A29: 46322 | B29: Elezione componente Studenti e Genitori nel consiglio di Classe | C29: Assemblea dei genitori ed elezione dei rappresentanti di classe | D29: Assemblea dei genitori ed elezione dei rappresentanti di classe | E29: 1 | F29: 1
A30: 46323 | F30: 1
A31: 46324 | F31: 1
A32: 46325 | B32: 3^ COLLEGIO ORDINARIO - Termine di presentazione dep: 1. piano di lavoro individuale con criteri e griglie di valutazione; 2. progetti; 3. programmazioni | E32: 2 | F32: 1
A33: 46326 | F33: 1
A34: TOTALE | B34: ='SETTEMBRE 2026'!B33+'OTTOBRE 2026'!F34 -> 41 | E34: =SUM(E3:E33) -> 6.5 | F34: =SUM(F2:F33) -> 27
A35: In caso di assenza di stato del dirigente scolastico, la conduzione dei consigli sarà demandata ai rispettivi coordinatori di classe e la verbalizzazione sarà consegnata entro sette giorni in presidenza o data ai collaboratori del dirigente. Attenzione sono atti pubblici.

Sheet NOVEMBRE 2026
A1: NOVEMBRE | B1: NOVEMBRE
A2: DATA | B2: ATTIVITA' | C2: SEDE DI FAICCHIO | D2: SEDE DI CASTELVENERE | E2: TOTALE ORE PER CONSIGLI E COLLEGI | F2: GIORNI DI LEZIONE
A3: 46327 | B3: Tutti i santi
A4: 46328 | C4: CHIUSURA ISTITUTO | D4: CHIUSURA ISTITUTO
A5: 46329 | F5: 1
A6: 46330 | F6: 1
A7: 46331 | F7: 1
A8: 46332 | F8: 1
A9: 46333 | F9: 1
A10: 46334
A11: 46335 | F11: 1
A12: 46336 | F12: 1
A13: 46337 | F13: 1
A14: 46338 | F14: 1
A15: 46339 | F15: 1
A16: 46340 | F16: 1
A17: 46341
A18: 46342 | B18: Consigli di classe - insediamento componete genitori ed alunni eletti | C18: Odontotecnico - OSS | E18: 3.5 | F18: 1
A19: 46343 | B19: Consigli di classe - insediamento componete genitori ed alunni eletti | D19: IPSEOA diurno e serale | F19: 1
A20: 46344 | B20: Consigli di classe - insediamento componete genitori ed alunni eletti | D20: IPSEOA diurno | F20: 1
A21: 46345 | F21: 1
A22: 46346 | B22: Consigli di classe - insediamento componete genitori ed alunni eletti | C22: Turistico | F22: 1
A23: 46347 | F23: 1
A24: 46348
A25: 46349 | F25: 1
A26: 46350 | F26: 1
A27: 46351 | B27: Giornata internazionale per il contrasto alla violenza di genere | F27: 1
A28: 46352 | D28: Incontro Scuola -Famiglia -15:00-17:30 | E28: 2.5 | F28: 1
A29: 46353 | C29: Incontro Scuola -Famiglia -15:00-17:30 | F29: 1
A30: 46354 | F30: 1
A31: 46355
A32: 46356 | B32: Termine entro cui svolgere le Elezione per il rinnovo dei componenti del Consiglio di Istituto - La data verrà definita da circolare USR - Campania | F32: 1
A33: TOTALE | B33: ='OTTOBRE 2026'!B34+'NOVEMBRE 2026'!F33 -> 65 | E33: =SUM(E3:E32) -> 6 | F33: =SUM(F3:F32) -> 24

Sheet DICEMBRE 2026
A1: DICEMBRE | B1: DICEMBRE
A2: DATA | B2: ATTIVITA' | C2: SEDE DI FAICCHIO | D2: SEDE DI CASTELVENERE | E2: TOTALE ORE PER CONSIGLI E COLLEGI | F2: GIORNI DI LEZIONE
A3: 46357 | F3: 1
A4: 46358 | F4: 1
A5: 46359 | B5: Giornata internazionale dei diritti delle persone con disabilità | F5: 1
A6: 46360 | F6: 1
A7: 46361 | F7: 1
A8: 46362
A9: 46363 | C9: CHIUSURA ISTITUTO | D9: CHIUSURA ISTITUTO
A10: 46364 | B10: Festa dell'Immacolata Concezione
A11: 46365 | F11: 1
A12: 46366 | F12: 1
A13: 46367 | F13: 1
A14: 46368 | F14: 1
A15: 46369
A16: 46370 | F16: 1
A17: 46371 | F17: 1
A18: 46372 | B18: 4° COLLEGIO DOCENTI | E18: 2 | F18: 1
A19: 46373 | F19: 1
A20: 46374 | F20: 1
A21: 46375 | C21: OPEN DAY | D21: OPEN DAY | F21: 1
A22: 46376
A23: 46377 | B23: GIORNATA DELLA CONDIVISIONE | F23: 1
A24: 46378 | B24: GIORNATA DELLA CONDIVISIONE | F24: 1
A25: 46379 | B25: Festività previste da calendario scolastico nazionale e regionale -Festività natalizie
A26: 46380 | C26: CHIUSURA ISTITUTO | D26: CHIUSURA ISTITUTO
A27: 46381
A28: 46382
A29: 46383
A30: 46384
A31: 46385
A32: 46386
A33: 46387 | C33: CHIUSURA ISTITUTO | D33: CHIUSURA ISTITUTO
A34: TOTALE | B34: ='NOVEMBRE 2026'!B33+'DICEMBRE 2026'!F34 -> 82 | E34: =SUM(E3:E33) -> 2 | F34: =SUM(F3:F33) -> 17

Sheet GENNAIO 2027
A1: GENNAIO | B1: GENNAIO
A2: DATA | B2: ATTIVITA' | C2: SEDE DI FAICCHIO | D2: SEDE DI CASTELVENERE | E2: TOTALE ORE PER CONSIGLI E COLLEGI | F2: GIORNI DI LEZIONE
A3: 46388 | B3: Festività previste da calendario scolastico nazionale e regionale -Festività natalizie-
A4: 46389 | C4: CHIUSURA ISTITUTO | D4: CHIUSURA ISTITUTO
A5: 46390
A6: 46391
A7: 46392
A8: 46393
A9: 46394 | F9: 1
A10: 46395 | F10: 1
A11: 46396 | F11: 1
A12: 46397
A13: 46398 | F13: 1
A14: 46399 | F14: 1
A15: 46400 | F15: 1
A16: 46401 | F16: 1
A17: 46402 | F17: 1
A18: 46403 | C18: OPEN DAY | D18: OPEN DAY | F18: 1
A19: 46404
A20: 46405 | B20: Verifiche quadrimestrali scritte ed orali | F20: 1
A21: 46406 | B21: Verifiche quadrimestrali scritte ed orali | F21: 1
A22: 46407 | B22: Verifiche quadrimestrali scritte ed orali | F22: 1
A23: 46408 | B23: Verifiche quadrimestrali scritte ed orali | F23: 1
A24: 46409 | B24: Verifiche quadrimestrali scritte ed orali | F24: 1
A25: 46410 | B25: Verifiche quadrimestrali scritte ed orali | C25: OPEN DAY | D25: OPEN DAY | F25: 1
A26: 46411
A27: 46412 | B27: Verifiche quadrimestrali scritte ed orali | F27: 1
A28: 46413 | B28: Verifiche quadrimestrali scritte ed orali - Commissioni di lavoro per il monitoraggio intermedio PTOF | E28: 2 | F28: 1
A29: 46414 | B29: I GIOVANI RICORDANO LA SHOAH - Verifiche quadrimestrali scritte ed orali | F29: 1
A30: 46415 | B30: Verifiche quadrimestrali scritte ed orali | F30: 1
A31: 46416 | B31: Verifiche quadrimestrali scritte ed orali | F31: 1
A32: 46417 | B32: Verifiche quadrimestrali scritte ed orali | F32: 1
A33: 46418 | B33: Verifiche quadrimestrali scritte ed orali
A34: TOTALE | B34: ='DICEMBRE 2026'!B34+'GENNAIO 2027'!F34 -> 103 | E34: =SUM(E3:E33) -> 2 | F34: =SUM(F3:F33) -> 21

Sheet FEBBRAIO 2027
A1: FEBBRAIO | B1: GENNAIO
A2: DATA | B2: ATTIVITA' | C2: SEDE DI FAICCHIO | D2: SEDE DI CASTELVENERE | E2: TOTALE ORE PER CONSIGLI E COLLEGI | F2: GIORNI DI LEZIONE
A3: 46419 | B3: Consigli scrutini quadrimestrali - | D3: IPSEOA diurno e serale | F3: 1
A4: 46420 | B4: Consigli scrutini quadrimestrali - | C4: Odontotecnico - OSS | F4: 1
A5: 46421 | B5: Consigli scrutini quadrimestrali - | D5: IPSEOA diurno | F5: 1
A6: 46422 | B6: Consigli scrutini quadrimestrali - | C6: Turistico | F6: 1
A7: 46423 | B7: Consigli scrutini quadrimestrali - | D7: IPSEOA diurno | F7: 1
A8: 46424 | F8: 1
A9: 46425
A10: 46426 | B10: Festività del Carnevale - prevista dal calendario scolastico regionale
A11: 46427 | B11: Festività del Carnevale - prevista dal calendario scolastico regionale | C11: CHIUSURA ISTITUTO | D11: CHIUSURA ISTITUTO
A12: 46428 | B12: I GIOVANI RICORDANO LE VITTIME DELLE FOIBE | F12: 1
A13: 46429 | B13: Attività di recupero e potenziamento | F13: 1
A14: 46430 | B14: Attività di recupero e potenziamento | F14: 1
A15: 46431 | B15: Attività di recupero e potenziamento | F15: 1
A16: 46432
A17: 46433 | F17: 1
A18: 46434 | F18: 1
A19: 46435 | F19: 1
A20: 46436 | F20: 1
A21: 46437 | D21: SANTO PATRONO CASTELVENERE | F21: 1
A22: 46438 | F22: 1
A23: 46439
A24: 46440 | B24: 5° COLLEGIO DOCENTI | E24: 2 | F24: 1
A25: 46441 | F25: 1
A26: 46442 | F26: 1
A27: 46443 | F27: 1
A28: 46444 | F28: 1
A29: 46445 | F29: 1
A30: 46446
A31: TOTALE | B31: ='GENNAIO 2027'!B34+'FEBBRAIO 2027'!F31 -> 125 | E31: =SUM(E2:E30) -> 2 | F31: =SUM(F2:F30) -> 22

Sheet MARZO 2027
A1: MARZO | B1: GENNAIO
A2: DATA | B2: ATTIVITA' | C2: SEDE DI FAICCHIO | D2: SEDE DI CASTELVENERE | E2: TOTALE ORE PER CONSIGLI E COLLEGI | F2: GIORNI DI LEZIONE
A3: 46447 | F3: 1
A4: 46448 | F4: 1
A5: 46449 | F5: 1
A6: 46450 | F6: 1
A7: 46451 | F7: 1
A8: 46452 | F8: 1
A9: 46453
A10: 46454 | B10: FESTA DELLA DONNA | F10: 1
A11: 46455 | F11: 1
A12: 46456 | F12: 1
A13: 46457 | F13: 1
A14: 46458 | F14: 1
A15: 46459 | F15: 1
A16: 46460
A17: 46461 | F17: 1
A18: 46462 | F18: 1
A19: 46463 | F19: 1
A20: 46464 | F20: 1
A21: 46465 | F21: 1
A22: 46466 | F22: 1
A23: 46467 | B23: GIORNATA DELLA MEMORIA E DELL'IMPEGNO
A24: 46468 | F24: 1
A25: 46469 | F25: 1
A26: 46470 | F26: 1
A27: 46471
A28: 46472
A29: 46473 | C29: CHIUSURA D'ISTITUTO | D29: CHIUSURA D'ISTITUTO
A30: 46474 | B30: Pasqua
A31: 46475 | B31: Lunedì in Albis
A32: 46476
A33: 46477 | B33: CHIUSURA FINESTRA TEMPORALE PROVE INVALSI CLASSI QUINTE | F33: 1
A34: TOTALE | B34: =F34+'FEBBRAIO 2027'!B31 -> 147 | E34: =SUM(E3:E33) -> 0 | F34: =SUM(F3:F33) -> 22

Sheet APRILE 2027
A2: APRILE | B2: GENNAIO
A3: DATA | B3: ATTIVITA' | C3: SEDE DI FAICCHIO | D3: SEDE DI CASTELVENERE | E3: TOTALE ORE PER CONSIGLI E COLLEGI | F3: GIORNI DI LEZIONE
A4: 46478 | F4: 1
A5: 46479 | F5: 1
A6: 46480 | F6: 1
A7: 46481
A8: 46482 | F8: 1
A9: 46483 | F9: 1
A10: 46484 | F10: 1
A11: 46485 | F11: 1
A12: 46486 | F12: 1
A13: 46487 | F13: 1
A14: 46488
A15: 46489 | B15: Consigli di classe: | C15: Turistico | F15: 1
A16: 46490 | B16: Consigli di classe: | D16: IPSEOA diurno | F16: 1
A17: 46491 | B17: Consigli di classe: | D17: IPSEOA diurno e serale | F17: 1
A18: 46492 | B18: Consigli di classe: | C18: Odontotecnico - OSS | F18: 1
A19: 46493 | F19: 1
A20: 46494 | F20: 1
A21: 46495
A22: 46496 | C22: Incontro Scuola -Famiglia -15:00-17:30 | F22: 1
A23: 46497 | F23: 1
A24: 46498 | D24: Incontro Scuola -Famiglia -15:00-17:30 | F24: 1
A25: 46499 | F25: 1
A26: 46500 | B26: DIPARTIMENTI DISCIPLINARI | F26: 1
A27: 46501 | F27: 1
A28: 46502 | B28: ANNIVERSARIO DELLA LIBERAZIONE
A29: 46503 | F29: 1
A30: 46504 | F30: 1
A31: 46505 | F31: 1
A32: 46506 | F32: 1
A33: 46507 | F33: 1
A34: TOTALE | B34: ='MARZO 2027'!B34+'APRILE 2027'!F34 -> 173 | E34: =SUM(E3:E33) -> 0 | F34: =SUM(F3:F33) -> 26

Sheet MAGGIO 2027
A1: MAGGIO | B1: GENNAIO
A2: DATA | B2: ATTIVITA' | C2: SEDE DI FAICCHIO | D2: SEDE DI CASTELVENERE | E2: TOTALE ORE PER CONSIGLI E COLLEGI | F2: GIORNI DI LEZIONE
A3: 46508 | B3: Festa del lavoro
A4: 46509 | B4: Festività deliberate ex DPR n. 275/1999
A5: 46510 | F5: 1
A6: 46511 | B6: Verifica documentazione candidati privatisti | F6: 1
A7: 46512 | F7: 1
A8: 46513 | F8: 1
A9: 46514 | F9: 1
A10: 46515 | F10: 1
A11: 46516
A12: 46517 | F12: 1
A13: 46518 | B13: Consigli di classe: Documento del consiglio di classe (solo classi quinte) - adozione libri di testo (tutte le classi) | C13: Turistico | E13: 4 | F13: 1
A14: 46519 | B14: Consigli di classe: Documento del consiglio di classe (solo classi quinte) - adozione libri di testo (tutte le classi) | C14: Odontotecnico - OSS | F14: 1
A15: 46520 | B15: Consigli di classe: Documento del consiglio di classe (solo classi quinte) - adozione libri di testo (tutte le classi) | D15: IPSEOA diurno e serale | F15: 1
A16: 46521 | B16: Consigli di classe: Documento del consiglio di classe (solo classi quinte) - adozione libri di testo (tutte le classi) | D16: IPSEOA diurno | F16: 1
A17: 46522 | F17: 1
A18: 46523
A19: 46524 | F19: 1
A20: 46525 | B20: 6° COLLEGIO DOCENTI | E20: 2 | F20: 1
A21: 46526 | B21: Verifiche scritte e orali | F21: 1
A22: 46527 | B22: Verifiche scritte e orali | F22: 1
A23: 46528 | B23: Verifiche scritte e orali | F23: 1
A24: 46529 | B24: Verifiche scritte e orali | F24: 1
A25: 46530
A26: 46531 | B26: Verifiche scritte e orali | F26: 1
A27: 46532 | B27: Verifiche scritte e orali | F27: 1
A28: 46533 | B28: Verifiche scritte e orali | F28: 1
A29: 46534 | B29: Verifiche scritte e orali | F29: 1
A30: 46535 | B30: Verifiche scritte e orali | F30: 1
A31: 46536 | B31: Verifiche scritte e orali - SIMULAZIONE DELLA PROVA ORALE DELL'ESAME DI STATO | F31: 1
A32: 46537 | B32: Verifiche scritte e orali
A33: 46538 | B33: Verifiche scritte e orali - CHIUSURA FINESTRA TEMPORALE PROVE INVALSI CLASSI SECONDE | F33: 1
A34: TOTALE | B34: ='APRILE 2027'!B34+'MAGGIO 2027'!F34 -> 198 | E34: =SUM(E4:E32) -> 6 | F34: =SUM(F3:F33) -> 25

Sheet GIUGNO 2027
A1: GIUGNO | B1: GENNAIO
A2: DATA | B2: ATTIVITA' | C2: SEDE DI FAICCHIO | D2: SEDE DI CASTELVENERE | E2: TOTALE ORE PER CONSIGLI E COLLEGI | F2: GIORNI DI LEZIONE
A3: 46539 | B3: Verifiche scritte e orali | F3: 1
A4: 46540 | B4: FESTA NAZIONALE DELLA REPUBBLICA
A5: 46541 | B5: Verifiche scritte e orali - Commissioni di lavoro per il monitoraggio finale PTOF - verifica lavoro svolto | F5: 1
A6: 46542 | B6: Verifiche scritte e orali | F6: 1
A7: 46543 | B7: Verifiche scritte e orali | F7: 1
A8: 46544
A9: 46545 | F9: 1
A10: 46546 | B10: Consigli di classe quadrimestrali | C10: CLASSI QUINTA diurno e serale | D10: CLASSI QUINTA diurno e serale | F10: 1
A11: 46547 | B11: Consigli di classe quadrimestrali | C11: Turistico | D11: IPSEOA diurno e serale
A12: 46548 | B12: Consigli di classe quadrimestrali | D12: IPSEOA diurno e serale
A13: 46549 | B13: Consigli di classe quadrimestrali | C13: OSS
A14: 46550 | B14: Consigli di classe quadrimestrali
A15: 46551
A16: 46552 | B16: RIUNIONE PRELIMINARE ESAMI DI STATO
A17: 46553 | B17: I docenti non impegnati negli esami di Stato sono tenuti a prestare servizio fino al 30 giugno
A18: 46554 | B18: PRIMA PROVA ESAME DI STATO
A19: 46555 | B19: SECONDA PROVA ESAME DI STATO
A20: 46556
A21: 46557
A22: 46558
A23: 46559
A24: 46560
A25: 46561
A26: 46562
A27: 46563
A28: 46564
A29: 46565
A30: 46566 | B30: 7° COLLEGIO DOCENTI | E30: 2
A31: 46567
A32: 46568
A33: TOTALE | B33: ='MAGGIO 2027'!B34+'GIUGNO 2027'!F33 -> 204 | E33: =SUM(E3:E31) -> 2 | F33: =SUM(F3:F31) -> 6

Sheet LUGLIO 2027
A1: LUGLIO | B1: GENNAIO
A2: DATA | B2: ATTIVITA' | C2: SEDE DI FAICCHIO | D2: SEDE DI CASTELVENERE | E2: TOTALE ORE PER CONSIGLI E COLLEGI | F2: GIORNI DI LEZIONE
A3: 46569
A4: 46570
A5: 46571
A6: 46572
A7: 46573
A8: 46574
A9: 46575
A10: 46576
A11: 46577
A12: 46578 | B12: Prefestivo concesso dal CDI chiusura d'istituto | C12: CHIUSURA D'ISTITUTO | D12: CHIUSURA D'ISTITUTO
A13: 46579
A14: 46580
A15: 46581
A16: 46582
A17: 46583
A18: 46584
A19: 46585 | B19: Prefestivo concesso dal CDI chiusura d'istituto | C19: CHIUSURA D'ISTITUTO | D19: CHIUSURA D'ISTITUTO
A20: 46586
A21: 46587
A22: 46588
A23: 46589
A24: 46590
A25: 46591
A26: 46592 | B26: Prefestivo concesso dal CDI chiusura d'istituto | C26: CHIUSURA D'ISTITUTO | D26: CHIUSURA D'ISTITUTO
A27: 46593
A28: 46594
A29: 46595
A30: 46596
A31: 46597
A32: 46598
A33: 46599 | B33: Prefestivo concesso dal CDI chiusura d'istituto | C33: CHIUSURA D'ISTITUTO | D33: CHIUSURA D'ISTITUTO
A34: TOTALE | B34: =F34 -> 0 | E34: =SUM(E4:E32) -> 0 | F34: =SUM(F4:F32) -> 0
A36: N.B. I DOCENTI CHE HANNO ASSEGNATO DEI DEBITI POTRANNO INIZIARE LO SVOLGIMENTO DEI CORSI DI RECUPERO DAL 01 LUGLIO FINO AL 22 AGOSTO PREVIA COMUNICAZIONE DEL CALENDARIO DI LAVORO DA LORO STESSI FORMALIZZATO NELLE RISPETTIVE SEDI DI LAVORO.

Sheet AGOSTO 2027
A1: AGOSTO | B1: GENNAIO
A2: DATA | B2: ATTIVITA' | C2: SEDE DI FAICCHIO | D2: SEDE DI CASTELVENERE | E2: TOTALE ORE PER CONSIGLI E COLLEGI | F2: GIORNI DI LEZIONE
A3: 46600
A4: 46601
A5: 46602
A6: 46603
A7: 46604
A8: 46605
A9: 46606 | B9: Prefestivo concesso dal CDI chiusura d'istituto | C9: CHIUSURA D'ISTITUTO | D9: CHIUSURA D'ISTITUTO
A10: 46607
A11: 46608
A12: 46609
A13: 46610
A14: 46611
A15: 46612
A16: 46613 | C16: CHIUSURA D'ISTITUTO | D16: CHIUSURA D'ISTITUTO
A17: 46614
A18: 46615
A19: 46616
A20: 46617
A21: 46618
A22: 46619
A23: 46620 | B23: Prefestivo concesso dal CDI chiusura d'istituto | C23: CHIUSURA D'ISTITUTO | D23: CHIUSURA D'ISTITUTO
A24: 46621
A25: 46622 | B25: ESAMI GIUDIZI SOSPESI ED ESAMI NTEGRATIVI
A26: 46623 | B26: ESAMI GIUDIZI SOSPESI ED ESAMI NTEGRATIVI
A27: 46624 | B27: ESAMI GIUDIZI SOSPESI ED ESAMI NTEGRATIVI
A28: 46625 | B28: ESAMI GIUDIZI SOSPESI ED ESAMI NTEGRATIVI
A29: 46626 | B29: ESAMI GIUDIZI SOSPESI ED ESAMI NTEGRATIVI
A30: 46627 | B30: Prefestivo concesso dal CDI chiusura d'istituto | C30: CHIUSURA D'ISTITUTO | D30: CHIUSURA D'ISTITUTO
A31: 46628
A32: 46629 | B32: ESAMI GIUDIZI SOSPESI ED ESAMI NTEGRATIVI
A33: 46630 | B33: ESAMI GIUDIZI SOSPESI ED ESAMI NTEGRATIVI
A34: TOTALE | B34: =F34 -> 0 | E34: =SUM(E4:E32) -> 0 | F34: =SUM(F4:F32) -> 0
